Package: CellScore Version: 1.27.0 Command: /Library/Frameworks/R.framework/Resources/bin/R CMD check --install=check:CellScore.install-out.txt --library=/Library/Frameworks/R.framework/Resources/library --no-vignettes --timings CellScore_1.27.0.tar.gz StartedAt: 2025-02-04 18:28:34 -0500 (Tue, 04 Feb 2025) EndedAt: 2025-02-04 18:30:59 -0500 (Tue, 04 Feb 2025) EllapsedTime: 145.0 seconds RetCode: 0 Status: OK CheckDir: CellScore.Rcheck Warnings: 0