Package: CellScore Version: 1.27.0 Command: /Library/Frameworks/R.framework/Resources/bin/R CMD INSTALL CellScore StartedAt: 2025-02-05 15:04:49 -0500 (Wed, 05 Feb 2025) EndedAt: 2025-02-05 15:04:57 -0500 (Wed, 05 Feb 2025) EllapsedTime: 8.3 seconds RetCode: 0 Status: OK