Package: CellScore Version: 1.27.0 Command: /home/biocbuild/R/R/bin/R CMD INSTALL CellScore StartedAt: 2025-01-29 19:39:56 -0000 (Wed, 29 Jan 2025) EndedAt: 2025-01-29 19:40:24 -0000 (Wed, 29 Jan 2025) EllapsedTime: 27.7 seconds RetCode: 0 Status: OK