Package: CellScore Version: 1.27.0 Command: /Library/Frameworks/R.framework/Resources/bin/R CMD build --keep-empty-dirs --no-resave-data CellScore StartedAt: 2025-02-05 16:09:34 -0500 (Wed, 05 Feb 2025) EndedAt: 2025-02-05 16:12:29 -0500 (Wed, 05 Feb 2025) EllapsedTime: 175.4 seconds RetCode: 0 Status: OK PackageFile: CellScore_1.27.0.tar.gz PackageFileSize: 4.216 MiB