Package: CellScore Version: 1.27.0 Command: /Library/Frameworks/R.framework/Resources/bin/R CMD INSTALL CellScore StartedAt: 2025-02-05 15:09:47 -0500 (Wed, 05 Feb 2025) EndedAt: 2025-02-05 15:10:15 -0500 (Wed, 05 Feb 2025) EllapsedTime: 28.0 seconds RetCode: 0 Status: OK