Package: CellScore Version: 1.27.0 Command: /home/biocbuild/bbs-3.21-bioc/R/bin/R CMD build --keep-empty-dirs --no-resave-data CellScore StartedAt: 2025-02-05 16:34:10 -0500 (Wed, 05 Feb 2025) EndedAt: 2025-02-05 16:36:55 -0500 (Wed, 05 Feb 2025) EllapsedTime: 165.2 seconds RetCode: 0 Status: OK PackageFile: CellScore_1.27.0.tar.gz PackageFileSize: 4.216 MiB