Package: CellScore Version: 1.27.0 Command: /home/biocbuild/bbs-3.21-bioc/R/bin/R CMD check --install=check:CellScore.install-out.txt --library=/home/biocbuild/bbs-3.21-bioc/R/site-library --timings CellScore_1.27.0.tar.gz StartedAt: 2025-02-05 20:47:29 -0500 (Wed, 05 Feb 2025) EndedAt: 2025-02-05 20:55:53 -0500 (Wed, 05 Feb 2025) EllapsedTime: 504.8 seconds RetCode: 0 Status: OK CheckDir: CellScore.Rcheck Warnings: 0