Package: CellScore Version: 1.27.0 Command: /home/biocbuild/bbs-3.21-bioc/R/bin/R CMD INSTALL CellScore StartedAt: 2025-02-05 15:18:05 -0500 (Wed, 05 Feb 2025) EndedAt: 2025-02-05 15:18:30 -0500 (Wed, 05 Feb 2025) EllapsedTime: 24.9 seconds RetCode: 0 Status: OK