Package: CellScore Version: 1.27.0 Command: chmod a+r CellScore -R && E:\biocbuild\bbs-3.21-bioc\R\bin\R.exe CMD build --keep-empty-dirs --no-resave-data CellScore StartedAt: 2025-02-05 17:49:00 -0500 (Wed, 05 Feb 2025) EndedAt: 2025-02-05 17:52:25 -0500 (Wed, 05 Feb 2025) EllapsedTime: 205.6 seconds RetCode: 0 Status: OK PackageFile: CellScore_1.27.0.tar.gz PackageFileSize: 4.213 MiB