Package: CellScore Version: 1.27.0 Command: E:\biocbuild\bbs-3.21-bioc\R\bin\R.exe CMD check --no-multiarch --install=check:CellScore.install-out.txt --library=E:\biocbuild\bbs-3.21-bioc\R\library --no-vignettes --timings CellScore_1.27.0.tar.gz StartedAt: 2025-02-04 23:56:30 -0500 (Tue, 04 Feb 2025) EndedAt: 2025-02-05 00:03:57 -0500 (Wed, 05 Feb 2025) EllapsedTime: 446.3 seconds RetCode: 0 Status: OK CheckDir: CellScore.Rcheck Warnings: 0