Package: CellScore Version: 1.27.0 Command: E:\biocbuild\bbs-3.21-bioc\R\bin\R.exe CMD INSTALL CellScore StartedAt: 2025-02-05 15:49:44 -0500 (Wed, 05 Feb 2025) EndedAt: 2025-02-05 15:50:23 -0500 (Wed, 05 Feb 2025) EllapsedTime: 39.2 seconds RetCode: 0 Status: OK