Package: CellTrails Version: 1.25.0 Maintainer: Daniel Ellwanger MaintainerEmail: dc.ellwanger.dev at gmail.com git_url: https://git.bioconductor.org/packages/CellTrails git_branch: devel git_last_commit: b064f50 git_last_commit_date: 2024-10-29 10:29:30 -0500 (Tue, 29 Oct 2024)