Package: CellTrails Version: 1.25.0 Command: /Library/Frameworks/R.framework/Resources/bin/R CMD build --keep-empty-dirs --no-resave-data CellTrails StartedAt: 2025-02-09 15:50:34 -0500 (Sun, 09 Feb 2025) EndedAt: 2025-02-09 15:50:51 -0500 (Sun, 09 Feb 2025) EllapsedTime: 16.2 seconds RetCode: 0 Status: OK PackageFile: CellTrails_1.25.0.tar.gz PackageFileSize: 2.628 MiB