Package: CellTrails Version: 1.25.0 Command: /Library/Frameworks/R.framework/Resources/bin/R CMD check --install=check:CellTrails.install-out.txt --library=/Library/Frameworks/R.framework/Resources/library --no-vignettes --timings CellTrails_1.25.0.tar.gz StartedAt: 2025-02-03 19:04:10 -0500 (Mon, 03 Feb 2025) EndedAt: 2025-02-03 19:05:43 -0500 (Mon, 03 Feb 2025) EllapsedTime: 93.2 seconds RetCode: 0 Status: OK CheckDir: CellTrails.Rcheck Warnings: 0