Package: CellTrails Version: 1.25.0 Command: /home/biocbuild/R/R/bin/R CMD check --install=check:CellTrails.install-out.txt --library=/home/biocbuild/R/R/site-library --no-vignettes --timings CellTrails_1.25.0.tar.gz StartedAt: 2025-01-28 09:03:00 -0000 (Tue, 28 Jan 2025) EndedAt: 2025-01-28 09:08:18 -0000 (Tue, 28 Jan 2025) EllapsedTime: 318.3 seconds RetCode: 0 Status: OK CheckDir: CellTrails.Rcheck Warnings: 0