Package: CellTrails Version: 1.25.0 Command: /home/biocbuild/bbs-3.21-bioc/R/bin/R CMD INSTALL CellTrails StartedAt: 2025-02-03 15:27:32 -0500 (Mon, 03 Feb 2025) EndedAt: 2025-02-03 15:28:01 -0500 (Mon, 03 Feb 2025) EllapsedTime: 28.1 seconds RetCode: 0 Status: OK