Package: CellTrails Version: 1.25.0 Command: rm -rf CellTrails.buildbin-libdir && mkdir CellTrails.buildbin-libdir && E:\biocbuild\bbs-3.21-bioc\R\bin\R.exe CMD INSTALL --build --library=CellTrails.buildbin-libdir CellTrails_1.25.0.tar.gz StartedAt: 2025-02-04 07:39:20 -0500 (Tue, 04 Feb 2025) EndedAt: 2025-02-04 07:41:29 -0500 (Tue, 04 Feb 2025) EllapsedTime: 129.4 seconds RetCode: 0 Status: OK PackageFile: CellTrails_1.25.0.zip PackageFileSize: 3.013 MiB