Package: CellTrails Version: 1.25.0 Command: E:\biocbuild\bbs-3.21-bioc\R\bin\R.exe CMD check --no-multiarch --install=check:CellTrails.install-out.txt --library=E:\biocbuild\bbs-3.21-bioc\R\library --no-vignettes --timings CellTrails_1.25.0.tar.gz StartedAt: 2025-02-09 23:30:29 -0500 (Sun, 09 Feb 2025) EndedAt: 2025-02-09 23:35:21 -0500 (Sun, 09 Feb 2025) EllapsedTime: 292.3 seconds RetCode: 0 Status: OK CheckDir: CellTrails.Rcheck Warnings: 0