Package: CellTrails Version: 1.25.0 Command: E:\biocbuild\bbs-3.21-bioc\R\bin\R.exe CMD INSTALL CellTrails StartedAt: 2025-02-03 16:31:45 -0500 (Mon, 03 Feb 2025) EndedAt: 2025-02-03 16:33:48 -0500 (Mon, 03 Feb 2025) EllapsedTime: 123.3 seconds RetCode: 0 Status: OK