Package: CelliD Version: 1.15.0 Maintainer: Akira Cortal MaintainerEmail: akira.cortal at institutimagine.org git_url: https://git.bioconductor.org/packages/CelliD git_branch: devel git_last_commit: af4d3e3 git_last_commit_date: 2024-10-29 10:57:02 -0500 (Tue, 29 Oct 2024)