Package: CelliD Version: 1.15.0 Command: /Library/Frameworks/R.framework/Resources/bin/R CMD INSTALL CelliD StartedAt: 2025-02-09 15:25:03 -0500 (Sun, 09 Feb 2025) EndedAt: 2025-02-09 15:25:27 -0500 (Sun, 09 Feb 2025) EllapsedTime: 23.8 seconds RetCode: 0 Status: OK