Package: CelliD Version: 1.15.0 Command: /home/biocbuild/R/R/bin/R CMD build --keep-empty-dirs --no-resave-data CelliD StartedAt: 2025-01-28 21:39:18 -0000 (Tue, 28 Jan 2025) EndedAt: 2025-01-28 22:03:35 -0000 (Tue, 28 Jan 2025) EllapsedTime: 1456.8 seconds RetCode: 0 Status: OK PackageFile: CelliD_1.15.0.tar.gz PackageFileSize: 1.233 MiB