Package: CelliD Version: 1.15.0 Command: /Library/Frameworks/R.framework/Resources/bin/R CMD build --keep-empty-dirs --no-resave-data CelliD StartedAt: 2025-02-09 16:11:52 -0500 (Sun, 09 Feb 2025) EndedAt: 2025-02-09 16:22:36 -0500 (Sun, 09 Feb 2025) EllapsedTime: 643.4 seconds RetCode: 0 Status: OK PackageFile: CelliD_1.15.0.tar.gz PackageFileSize: 2.579 MiB