Package: CelliD Version: 1.15.0 Command: /Library/Frameworks/R.framework/Resources/bin/R CMD check --install=check:CelliD.install-out.txt --library=/Library/Frameworks/R.framework/Resources/library --no-vignettes --timings CelliD_1.15.0.tar.gz StartedAt: 2025-02-09 19:37:20 -0500 (Sun, 09 Feb 2025) EndedAt: 2025-02-09 19:43:42 -0500 (Sun, 09 Feb 2025) EllapsedTime: 381.3 seconds RetCode: 0 Status: WARNINGS CheckDir: CelliD.Rcheck Warnings: 1