Package: CelliD Version: 1.15.0 Command: rm -rf CelliD.buildbin-libdir && mkdir CelliD.buildbin-libdir && E:\biocbuild\bbs-3.21-bioc\R\bin\R.exe CMD INSTALL --build --library=CelliD.buildbin-libdir CelliD_1.15.0.tar.gz StartedAt: 2025-02-10 07:24:15 -0500 (Mon, 10 Feb 2025) EndedAt: 2025-02-10 07:26:00 -0500 (Mon, 10 Feb 2025) EllapsedTime: 105.1 seconds RetCode: 0 Status: OK PackageFile: CelliD_1.15.0.zip PackageFileSize: 1.561 MiB