Package: CelliD Version: 1.15.0 Command: chmod a+r CelliD -R && E:\biocbuild\bbs-3.21-bioc\R\bin\R.exe CMD build --keep-empty-dirs --no-resave-data CelliD StartedAt: 2025-02-09 17:43:00 -0500 (Sun, 09 Feb 2025) EndedAt: 2025-02-09 17:54:45 -0500 (Sun, 09 Feb 2025) EllapsedTime: 704.2 seconds RetCode: 0 Status: OK PackageFile: CelliD_1.15.0.tar.gz PackageFileSize: 911.6 KiB