Package: CelliD Version: 1.15.0 Command: E:\biocbuild\bbs-3.21-bioc\R\bin\R.exe CMD INSTALL CelliD StartedAt: 2025-02-09 16:25:46 -0500 (Sun, 09 Feb 2025) EndedAt: 2025-02-09 16:27:17 -0500 (Sun, 09 Feb 2025) EllapsedTime: 90.9 seconds RetCode: 0 Status: OK