Package: Cepo Version: 1.13.0 Maintainer: Hani Jieun Kim MaintainerEmail: hani.kim127 at gmail.com git_url: https://git.bioconductor.org/packages/Cepo git_branch: devel git_last_commit: 5cb935f git_last_commit_date: 2024-10-29 11:06:03 -0500 (Tue, 29 Oct 2024)