Package: Cepo Version: 1.13.0 Command: rm -rf Cepo.buildbin-libdir && mkdir Cepo.buildbin-libdir && /Users/biocbuild/BBS/utils/build-universal.sh Cepo_1.13.0.tar.gz /Library/Frameworks/R.framework/Resources/bin/R Cepo.buildbin-libdir StartedAt: 2025-02-09 22:08:50 -0500 (Sun, 09 Feb 2025) EndedAt: 2025-02-09 22:09:06 -0500 (Sun, 09 Feb 2025) EllapsedTime: 15.3 seconds RetCode: 0 Status: OK PackageFile: Cepo_1.13.0.tgz PackageFileSize: 3.962 MiB