Package: Cepo Version: 1.13.0 Command: /Library/Frameworks/R.framework/Resources/bin/R CMD build --keep-empty-dirs --no-resave-data Cepo StartedAt: 2025-02-09 15:50:54 -0500 (Sun, 09 Feb 2025) EndedAt: 2025-02-09 15:51:33 -0500 (Sun, 09 Feb 2025) EllapsedTime: 39.4 seconds RetCode: 0 Status: OK PackageFile: Cepo_1.13.0.tar.gz PackageFileSize: 3.926 MiB