Package: Cepo Version: 1.13.0 Command: /Library/Frameworks/R.framework/Resources/bin/R CMD build --keep-empty-dirs --no-resave-data Cepo StartedAt: 2025-02-09 16:13:01 -0500 (Sun, 09 Feb 2025) EndedAt: 2025-02-09 16:14:53 -0500 (Sun, 09 Feb 2025) EllapsedTime: 111.7 seconds RetCode: 0 Status: OK PackageFile: Cepo_1.13.0.tar.gz PackageFileSize: 3.925 MiB