Package: Cepo Version: 1.13.0 Command: /home/biocbuild/bbs-3.21-bioc/R/bin/R CMD build --keep-empty-dirs --no-resave-data Cepo StartedAt: 2025-02-12 16:31:30 -0500 (Wed, 12 Feb 2025) EndedAt: 2025-02-12 16:33:17 -0500 (Wed, 12 Feb 2025) EllapsedTime: 107.1 seconds RetCode: 0 Status: OK PackageFile: Cepo_1.13.0.tar.gz PackageFileSize: 3.244 MiB