Package: Cepo Version: 1.13.0 Command: rm -rf Cepo.buildbin-libdir && mkdir Cepo.buildbin-libdir && E:\biocbuild\bbs-3.21-bioc\R\bin\R.exe CMD INSTALL --build --library=Cepo.buildbin-libdir Cepo_1.13.0.tar.gz StartedAt: 2025-02-05 07:37:16 -0500 (Wed, 05 Feb 2025) EndedAt: 2025-02-05 07:37:55 -0500 (Wed, 05 Feb 2025) EllapsedTime: 39.1 seconds RetCode: 0 Status: OK PackageFile: Cepo_1.13.0.zip PackageFileSize: 2.526 MiB