Package: Cepo Version: 1.13.0 Command: E:\biocbuild\bbs-3.21-bioc\R\bin\R.exe CMD check --no-multiarch --install=check:Cepo.install-out.txt --library=E:\biocbuild\bbs-3.21-bioc\R\library --no-vignettes --timings Cepo_1.13.0.tar.gz StartedAt: 2025-02-04 23:57:34 -0500 (Tue, 04 Feb 2025) EndedAt: 2025-02-05 00:02:28 -0500 (Wed, 05 Feb 2025) EllapsedTime: 294.0 seconds RetCode: 0 Status: OK CheckDir: Cepo.Rcheck Warnings: 0