Package: Cepo Version: 1.13.0 Command: E:\biocbuild\bbs-3.21-bioc\R\bin\R.exe CMD INSTALL Cepo StartedAt: 2025-02-04 16:20:06 -0500 (Tue, 04 Feb 2025) EndedAt: 2025-02-04 16:20:46 -0500 (Tue, 04 Feb 2025) EllapsedTime: 40.5 seconds RetCode: 0 Status: OK