Package: CexoR Version: 1.45.0 Command: /Library/Frameworks/R.framework/Resources/bin/R CMD check --install=check:CexoR.install-out.txt --library=/Library/Frameworks/R.framework/Resources/library --no-vignettes --timings CexoR_1.45.0.tar.gz StartedAt: 2025-02-09 18:28:11 -0500 (Sun, 09 Feb 2025) EndedAt: 2025-02-09 18:30:06 -0500 (Sun, 09 Feb 2025) EllapsedTime: 115.5 seconds RetCode: 0 Status: OK CheckDir: CexoR.Rcheck Warnings: 0