Package: CexoR Version: 1.45.0 Command: /home/biocbuild/R/R/bin/R CMD build --keep-empty-dirs --no-resave-data CexoR StartedAt: 2025-01-28 21:43:34 -0000 (Tue, 28 Jan 2025) EndedAt: 2025-01-28 21:44:57 -0000 (Tue, 28 Jan 2025) EllapsedTime: 83.0 seconds RetCode: 0 Status: OK PackageFile: CexoR_1.45.0.tar.gz PackageFileSize: 1.651 MiB