Package: CexoR Version: 1.45.0 Command: /home/biocbuild/R/R/bin/R CMD INSTALL CexoR StartedAt: 2025-01-29 19:55:25 -0000 (Wed, 29 Jan 2025) EndedAt: 2025-01-29 19:56:14 -0000 (Wed, 29 Jan 2025) EllapsedTime: 49.1 seconds RetCode: 0 Status: OK