Package: CexoR Version: 1.45.0 Command: /Library/Frameworks/R.framework/Resources/bin/R CMD build --keep-empty-dirs --no-resave-data CexoR StartedAt: 2025-02-09 16:13:15 -0500 (Sun, 09 Feb 2025) EndedAt: 2025-02-09 16:14:20 -0500 (Sun, 09 Feb 2025) EllapsedTime: 64.8 seconds RetCode: 0 Status: OK PackageFile: CexoR_1.45.0.tar.gz PackageFileSize: 1.66 MiB