Package: CexoR Version: 1.45.0 Command: /Library/Frameworks/R.framework/Resources/bin/R CMD check --install=check:CexoR.install-out.txt --library=/Library/Frameworks/R.framework/Resources/library --no-vignettes --timings CexoR_1.45.0.tar.gz StartedAt: 2025-02-09 19:40:17 -0500 (Sun, 09 Feb 2025) EndedAt: 2025-02-09 19:45:51 -0500 (Sun, 09 Feb 2025) EllapsedTime: 333.9 seconds RetCode: 0 Status: OK CheckDir: CexoR.Rcheck Warnings: 0