Package: CexoR Version: 1.45.0 Command: /Library/Frameworks/R.framework/Resources/bin/R CMD INSTALL CexoR StartedAt: 2025-02-09 15:20:19 -0500 (Sun, 09 Feb 2025) EndedAt: 2025-02-09 15:21:08 -0500 (Sun, 09 Feb 2025) EllapsedTime: 49.2 seconds RetCode: 0 Status: OK