Package: CexoR Version: 1.45.0 Command: /home/biocbuild/bbs-3.21-bioc/R/bin/R CMD check --install=check:CexoR.install-out.txt --library=/home/biocbuild/bbs-3.21-bioc/R/site-library --timings CexoR_1.45.0.tar.gz StartedAt: 2025-02-12 20:45:42 -0500 (Wed, 12 Feb 2025) EndedAt: 2025-02-12 20:51:05 -0500 (Wed, 12 Feb 2025) EllapsedTime: 323.6 seconds RetCode: 0 Status: OK CheckDir: CexoR.Rcheck Warnings: 0