Package: CexoR Version: 1.45.0 Command: /home/biocbuild/bbs-3.21-bioc/R/bin/R CMD INSTALL CexoR StartedAt: 2025-02-12 15:36:06 -0500 (Wed, 12 Feb 2025) EndedAt: 2025-02-12 15:36:43 -0500 (Wed, 12 Feb 2025) EllapsedTime: 36.6 seconds RetCode: 0 Status: OK