Package: ChAMP Version: 2.37.0 Command: /Library/Frameworks/R.framework/Resources/bin/R CMD build --keep-empty-dirs --no-resave-data ChAMP StartedAt: 2025-02-09 15:51:59 -0500 (Sun, 09 Feb 2025) EndedAt: 2025-02-09 15:52:48 -0500 (Sun, 09 Feb 2025) EllapsedTime: 48.5 seconds RetCode: 0 Status: OK PackageFile: ChAMP_2.37.0.tar.gz PackageFileSize: 7.967 MiB