Package: ChAMP Version: 2.37.0 Command: /Library/Frameworks/R.framework/Resources/bin/R CMD INSTALL ChAMP StartedAt: 2025-02-09 15:30:34 -0500 (Sun, 09 Feb 2025) EndedAt: 2025-02-09 15:30:56 -0500 (Sun, 09 Feb 2025) EllapsedTime: 21.7 seconds RetCode: 0 Status: OK