Package: ChAMP Version: 2.37.0 Command: /Library/Frameworks/R.framework/Resources/bin/R CMD build --keep-empty-dirs --no-resave-data ChAMP StartedAt: 2025-02-03 16:16:55 -0500 (Mon, 03 Feb 2025) EndedAt: 2025-02-03 16:19:07 -0500 (Mon, 03 Feb 2025) EllapsedTime: 132.3 seconds RetCode: 0 Status: OK PackageFile: ChAMP_2.37.0.tar.gz PackageFileSize: 7.965 MiB