Package: ChAMP Version: 2.37.0 Command: /Library/Frameworks/R.framework/Resources/bin/R CMD check --install=check:ChAMP.install-out.txt --library=/Library/Frameworks/R.framework/Resources/library --no-vignettes --timings ChAMP_2.37.0.tar.gz StartedAt: 2025-02-03 19:32:59 -0500 (Mon, 03 Feb 2025) EndedAt: 2025-02-03 19:42:08 -0500 (Mon, 03 Feb 2025) EllapsedTime: 549.2 seconds RetCode: 0 Status: WARNINGS CheckDir: ChAMP.Rcheck Warnings: 2