Package: ChAMP Version: 2.37.0 Command: /home/biocbuild/bbs-3.21-bioc/R/bin/R CMD build --keep-empty-dirs --no-resave-data ChAMP StartedAt: 2025-02-09 16:37:07 -0500 (Sun, 09 Feb 2025) EndedAt: 2025-02-09 16:39:13 -0500 (Sun, 09 Feb 2025) EllapsedTime: 125.2 seconds RetCode: 0 Status: OK PackageFile: ChAMP_2.37.0.tar.gz PackageFileSize: 7.952 MiB