Package: ChAMP Version: 2.37.0 Command: E:\biocbuild\bbs-3.21-bioc\R\bin\R.exe CMD check --no-multiarch --install=check:ChAMP.install-out.txt --library=E:\biocbuild\bbs-3.21-bioc\R\library --no-vignettes --timings ChAMP_2.37.0.tar.gz StartedAt: 2025-02-04 00:02:33 -0500 (Tue, 04 Feb 2025) EndedAt: 2025-02-04 00:12:26 -0500 (Tue, 04 Feb 2025) EllapsedTime: 592.5 seconds RetCode: 0 Status: WARNINGS CheckDir: ChAMP.Rcheck Warnings: 2