Package: ChIPComp Version: 1.37.0 Maintainer: Li Chen MaintainerEmail: li.chen at emory.edu git_url: https://git.bioconductor.org/packages/ChIPComp git_branch: devel git_last_commit: 3fbdb06 git_last_commit_date: 2024-10-29 10:03:15 -0500 (Tue, 29 Oct 2024)